BEGIN:VCALENDAR
VERSION:2.0
PRODID:-//https://www.fitri.it///NONSGML kigkonsult.se iCalcreator 2.10.15//
METHOD:PUBLISH
BEGIN:VEVENT
UID:20260419T180900CEST-9094oAMxIF@https://www.fitri.it/
DTSTAMP:20260419T160900Z
DESCRIPTION:Sessione esame Allenatore I Liv 2025 https://www.fitri.it/cerca
 -eventi/evento/528-corso-formazione-allenatore-sessione-esame.html
DTSTART:20260307T083700Z
DTEND:20260308T103700Z
LOCATION:Modalità online  ()
SUMMARY:Corso Formazione Allenatore - Sessione Esame
URL:https://www.fitri.it/cerca-eventi/evento/528-corso-formazione-allenator
 e-sessione-esame.html
END:VEVENT
END:VCALENDAR
