BEGIN:VCALENDAR
VERSION:2.0
PRODID:-//https://www.fitri.it///NONSGML kigkonsult.se iCalcreator 2.10.15//
METHOD:PUBLISH
BEGIN:VEVENT
UID:20260419T141456CEST-4846oRZ40D@https://www.fitri.it/
DTSTAMP:20260419T121456Z
DESCRIPTION: \nIn programma ad aprile 2026 Corso Formazione specialistico C
 orso Formazione Istruttore bambini 4-5 anni \nLinee guida e informazioni d
 ettagliate: fine marzo\n \nObiettivo\nIl corso è rivolto a tutte le figure
  tecniche con un livello di formazione minimo di primo livello (Istruttore
  o Aiuto Allenatore) e si propone di formare tecnici qualificati adoperare
  con bambini della fascia di età 4-5 anni\, progettando e realizzando atti
 vità sportive e ludico-ricreative volte a stimolare lo sviluppo motorio\, 
 cognitivo e relazionale in un ambiente divertente\, sano e sicuro per i pi
 ù piccoli.\nContenuti del corso\nErogazione conoscenze sulle materie di pe
 dagogia\, sociologia dell’educazione\, progettazione educativa\, psicomotr
 icità\, sugli schemi motori di base e capacità coordinative rilevanti per 
 le fasce di età 4 – 9 anni. Sono fornite nozioni di base per la tutela e l
 a sicurezza dei bambini nell’ambiente di lavoro e vengono proposte esercit
 azioni per acquisire abilità nel progettare attività motorie sicure per i 
 bambini e adeguate a favorire lo sviluppo psico-motorio.\nConoscenze trasm
 esse e contenuti del corso\n\nPedagogia generale \nPedagogia speciale (lab
 oratorio) \nSociologia dell’educazione – infanzia  \nDidattica generale e 
 neurodidattica \nNeuropsichiatria infantile \nProgettazione educativa \nPs
 icomotricità\, gioco e sport: laboratori pratici\nElementi di anatomia\, f
 isiologia\, biomeccanica\nCapacità condizionali e coordinative\nIgiene gen
 erale e applicata \nElementi di pronto soccorso e BLSD\nTutela dei minori 
 e Safeguarding\nResponsabilità\, codici di condotta e tutele per l’operato
 re nelle età dell’infanzia\n\nAbilità acquisite con le esercitazioni\n\nPr
 ogettare attività motorie sicure per i bambini adeguate a favorire lo svil
 uppo psico-motorio\nIndividuare precocemente possibili rischi per la salut
 e dei bambini negli ambienti di allenamento\nRiconoscere precocemente segn
 ali di allarme per possibili disturbi dell’infanzia per l’inserimento e l’
 integrazione nelle attività\n\nCompetenze richieste al tecnico che opera c
 on bambini della fascia di età 4-9 anni\n\nCapacità di gestione dei gruppi
  di bambini operando con attività sane e sicure per i più piccoli\nProgett
 are e condurre attività motorie creative\nEmpatia\, ascolto e capacità com
 unicative\nFlessibilità nell’adattare le attività a tutte le età e abilità
 \nPromuovere il benessere psicofisico\nStimolare in modo ottimale lo svilu
 ppo fisico\, cognitivo e relazionale\nFavorire l’inserimento nell’ambiente
  e l’integrazione tra bambini di diverse culture e abilità\nRiconoscere ev
 entuali segnali di allarme per possibili disturbi dell’infanzia e problema
 tiche relazionali dei bambini\n\n  https://www.fitri.it/cerca-eventi/event
 o/533-corso-specializzazione-istruttore-bambini-4-5-anni.html
DTSTART;VALUE=DATE:20260401
LOCATION:Modalità online  ()
SUMMARY:CORSO SPECIALIZZAZIONE - Istruttore bambini 4-5 anni 
URL:https://www.fitri.it/cerca-eventi/evento/533-corso-specializzazione-ist
 ruttore-bambini-4-5-anni.html
END:VEVENT
END:VCALENDAR
